BEGIN:VCALENDAR
VERSION:2.0
PRODID:-//FRIL - ECPv5.7.0//NONSGML v1.0//EN
CALSCALE:GREGORIAN
METHOD:PUBLISH
X-WR-CALNAME:FRIL
X-ORIGINAL-URL:https://fril.co.il
X-WR-CALDESC:אירועים ל FRIL
BEGIN:VTIMEZONE
TZID:Europe/Moscow
BEGIN:STANDARD
TZOFFSETFROM:+0300
TZOFFSETTO:+0300
TZNAME:MSK
DTSTART:20180101T000000
END:STANDARD
END:VTIMEZONE
BEGIN:VEVENT
DTSTART;TZID=Europe/Moscow:20210423T080000
DTEND;TZID=Europe/Moscow:20210423T170000
DTSTAMP:20210717T144318
CREATED:20210223T113331Z
LAST-MODIFIED:20210314T104700Z
UID:3972-1619164800-1619197200@fril.co.il
SUMMARY:מירוץ רחפנים אפריל 2021
DESCRIPTION:בשל אילוצי קורונה ו/או מזג האוויר תתיכן דחיה או ביטול של המירוץ. \nהשתדלו להתעדכן באמצעות הפייסבוק או האתר.
URL:https://fril.co.il/?tribe_events=%d7%9e%d7%99%d7%a8%d7%95%d7%a5-%d7%a8%d7%97%d7%a4%d7%a0%d7%99%d7%9d-%d7%90%d7%a4%d7%a8%d7%99%d7%9c-2021
LOCATION:ווינגייט\, גולף עליון מכון וינגייט\, Israel
ATTACH;FMTTYPE=image/png:https://fril.co.il/wp-content/uploads/2020/02/תחרות-ארצית.png
END:VEVENT
BEGIN:VEVENT
DTSTART;TZID=Europe/Moscow:20210326T070000
DTEND;TZID=Europe/Moscow:20210326T170000
DTSTAMP:20210717T144318
CREATED:20210223T084011Z
LAST-MODIFIED:20210314T104529Z
UID:3965-1616742000-1616778000@fril.co.il
SUMMARY:מירוץ רחפנים מרץ 2021
DESCRIPTION:בשל אילוצי קורונה ו/או מזג האוויר תתיכן דחיה או ביטול של המירוץ \nהשתדלו להתעדכן באמצעות הפייסבוק או האתר. \n \nקשיבו הקשיבו\, אנחנו בתנופה ולא ניתן לשום קורונה לעצור אותנו \nב 26.03 יש לנו תחרות מצורף טופס הרשמה : \nhttps://forms.gle/q7CnBDTrSLzeu9Xa9 \nכמו כן\, סיכוי גדול שחודש הבא נרים הפנינג מטורף בשיתוף קלוב התעופה והתאחדות איילת באילת !!! פרטים נוספים ממש בקרוב. \nלהזכירכם יש קבוצה ייעודית רק להודעות ניתן להיכנס אליה בלינק הבא : \nhttps://chat.whatsapp.com/BI19Xr0jzk56hzjlaTTLif \nתרשמו כמה שיותר מהר ככל שיהיו יותר מתחרים ככה נוכל להביא לכם יותר פרסים
URL:https://fril.co.il/?tribe_events=%d7%9e%d7%99%d7%a8%d7%95%d7%a5-%d7%a8%d7%97%d7%a4%d7%a0%d7%99%d7%9d-%d7%9e%d7%a8%d7%a5-2021
CATEGORIES:תאריכי מירוצים
ATTACH;FMTTYPE=image/png:https://fril.co.il/wp-content/uploads/2020/02/תחרות-ארצית.png
END:VEVENT
BEGIN:VEVENT
DTSTART;TZID=Europe/Moscow:20200925T080000
DTEND;TZID=Europe/Moscow:20200925T140000
DTSTAMP:20210717T144318
CREATED:20200204T112041Z
LAST-MODIFIED:20201221T065332Z
UID:2823-1601020800-1601042400@fril.co.il
SUMMARY:מירוץ ספטמבר 2020
DESCRIPTION:תיתכן דחייה של שבוע בשל אילוצי מזג האוויר או אילוצים טכנים אחרים.\nמיקום ודגשים או שינויים בחוקה יפורסמו בסמוך למועד המירוץ
URL:https://fril.co.il/?tribe_events=%d7%9e%d7%99%d7%a8%d7%95%d7%a5-%d7%a1%d7%a4%d7%98%d7%9e%d7%91%d7%a8-2020
CATEGORIES:תאריכי מירוצים
ATTACH;FMTTYPE=image/png:https://fril.co.il/wp-content/uploads/2020/02/תחרות-ארצית.png
END:VEVENT
BEGIN:VEVENT
DTSTART;VALUE=DATE:20200828
DTEND;VALUE=DATE:20200829
DTSTAMP:20210717T144318
CREATED:20200204T113041Z
LAST-MODIFIED:20200204T121420Z
UID:2821-1598572800-1598659199@fril.co.il
SUMMARY:מירוץ אוגוסט 2020
DESCRIPTION:תיתכן דחייה של שבוע בשל אילוצי מזג האוויר או אילוצים טכנים אחרים.\nמיקום ודגשים או שינויים בחוקה יפורסמו בסמוך למועד המירוץ
URL:https://fril.co.il/?tribe_events=%d7%9e%d7%99%d7%a8%d7%95%d7%a5-%d7%90%d7%95%d7%92%d7%95%d7%a1%d7%98-2020
CATEGORIES:תאריכי מירוצים
ATTACH;FMTTYPE=image/png:https://fril.co.il/wp-content/uploads/2020/02/תחרות-ארצית.png
END:VEVENT
BEGIN:VEVENT
DTSTART;VALUE=DATE:20200710
DTEND;VALUE=DATE:20200711
DTSTAMP:20210717T144318
CREATED:20200204T115027Z
LAST-MODIFIED:20200204T121413Z
UID:2818-1594339200-1594425599@fril.co.il
SUMMARY:מירוץ יולי 2020
DESCRIPTION:תיתכן דחייה של שבוע בשל אילוצי מזג האוויר או אילוצים טכנים אחרים.\nמיקום ודגשים או שינויים בחוקה יפורסמו בסמוך למועד המירוץ
URL:https://fril.co.il/?tribe_events=%d7%9e%d7%99%d7%a8%d7%95%d7%a5-%d7%99%d7%95%d7%9c%d7%99-2020
CATEGORIES:תאריכי מירוצים
ATTACH;FMTTYPE=image/png:https://fril.co.il/wp-content/uploads/2020/02/תחרות-ארצית.png
END:VEVENT
BEGIN:VEVENT
DTSTART;VALUE=DATE:20200605
DTEND;VALUE=DATE:20200606
DTSTAMP:20210717T144318
CREATED:20200605T115322Z
LAST-MODIFIED:20200615T132250Z
UID:2815-1591315200-1591401599@fril.co.il
SUMMARY:מירוץ יוני 2020
DESCRIPTION:  \nתיתכן דחייה של שבוע בשל אילוצי מזג האוויר או אילוצים טכנים אחרים.\nמיקום ודגשים או שינויים בחוקה יפורסמו בסמוך למועד המירוץ
URL:https://fril.co.il/?tribe_events=%d7%9e%d7%99%d7%a8%d7%95%d7%a5-%d7%9e%d7%90%d7%99-2020
LOCATION:אצטדיון כדורגל גבעת אולגגה\, אצטדיון כדורגל גבעת אולגה\, חדרה\, Israel
ATTACH;FMTTYPE=image/png:https://fril.co.il/wp-content/uploads/2020/02/תחרות-ארצית.png
END:VEVENT
BEGIN:VEVENT
DTSTART;VALUE=DATE:20190830
DTEND;VALUE=DATE:20190831
DTSTAMP:20210717T144318
CREATED:20190115T201534Z
LAST-MODIFIED:20190203T074001Z
UID:1199-1567123200-1567209599@fril.co.il
SUMMARY:מירוץ אוגוסט 2019 - אליפות ישראל
DESCRIPTION:תיתכן דחייה של שבוע בשל אילוצי מזג האוויר או אילוצים טכנים אחרים.\nמיקום ודגשים או שינויים בחוקה יפורסמו בסמוך למועד המירוץ
URL:https://fril.co.il/?tribe_events=%d7%9e%d7%99%d7%a8%d7%95%d7%a5-%d7%90%d7%95%d7%92%d7%95%d7%a1%d7%98-2019-%d7%90%d7%9c%d7%99%d7%a4%d7%95%d7%aa-%d7%99%d7%a9%d7%a8%d7%90%d7%9c
CATEGORIES:תאריכי מירוצים
END:VEVENT
BEGIN:VEVENT
DTSTART;VALUE=DATE:20190705
DTEND;VALUE=DATE:20190706
DTSTAMP:20210717T144318
CREATED:20190115T201352Z
LAST-MODIFIED:20190115T202048Z
UID:1195-1562284800-1562371199@fril.co.il
SUMMARY:מירוץ יולי 2019
DESCRIPTION:תיתכן דחייה של שבוע בשל אילוצי מזג האוויר או אילוצים טכנים אחרים.\nמיקום ודגשים או שינויים בחוקה יפורסמו בסמוך למועד המירוץ
URL:https://fril.co.il/?tribe_events=%d7%9e%d7%99%d7%a8%d7%95%d7%a5-%d7%99%d7%95%d7%9c%d7%99-2019
CATEGORIES:תאריכי מירוצים
END:VEVENT
BEGIN:VEVENT
DTSTART;VALUE=DATE:20190215
DTEND;VALUE=DATE:20190216
DTSTAMP:20210717T144318
CREATED:20190115T201017Z
LAST-MODIFIED:20190203T074203Z
UID:1187-1550188800-1550275199@fril.co.il
SUMMARY:מירוץ פברואר 2019
DESCRIPTION:טופס הרשמה
URL:https://fril.co.il/?tribe_events=%d7%9e%d7%99%d7%a8%d7%95%d7%a5-%d7%a4%d7%91%d7%a8%d7%95%d7%90%d7%a8-2019
LOCATION:ווינגייט\, גולף עליון מכון וינגייט\, Israel
CATEGORIES:תאריכי מירוצים
END:VEVENT
BEGIN:VEVENT
DTSTART;VALUE=DATE:20181116
DTEND;VALUE=DATE:20181117
DTSTAMP:20210717T144318
CREATED:20180723T125151Z
LAST-MODIFIED:20180723T135259Z
UID:962-1542326400-1542412799@fril.co.il
SUMMARY:מירוץ חורף ואחרון לשנת 2018
DESCRIPTION:תיתכן דחייה למועד חלופי כשבוע לאחר מכן
URL:https://fril.co.il/?tribe_events=%d7%9e%d7%99%d7%a8%d7%95%d7%a5-%d7%97%d7%95%d7%a8%d7%a3-%d7%95%d7%90%d7%97%d7%a8%d7%95%d7%9f-%d7%9c%d7%a9%d7%a0%d7%aa-2018
CATEGORIES:תאריכי מירוצים
END:VEVENT
BEGIN:VEVENT
DTSTART;VALUE=DATE:20180914
DTEND;VALUE=DATE:20180915
DTSTAMP:20210717T144318
CREATED:20180723T124457Z
LAST-MODIFIED:20180723T135248Z
UID:959-1536883200-1536969599@fril.co.il
SUMMARY:מירוץ סתיו 2018
DESCRIPTION:תיתכן דחייה למועד חלופי כשבוע לאחר מכן
URL:https://fril.co.il/?tribe_events=%d7%9e%d7%99%d7%a8%d7%95%d7%a5-%d7%a1%d7%aa%d7%99%d7%95-2018
CATEGORIES:תאריכי מירוצים
END:VEVENT
END:VCALENDAR